BEGIN:VCALENDAR
VERSION:2.0
PRODID:-//Department Of Education//219a4d14-9647-499c-9278-8ec7e0c2048a
BEGIN:VTIMEZONE
TZID:Australia/Sydney
TZURL:http://tzurl.org/zoneinfo-outlook/Australia/Sydney
X-LIC-LOCATION:Australia/Sydney
BEGIN:STANDARD
TZOFFSETFROM:+1100
TZOFFSETTO:+1000
TZNAME:AEST
DTSTART:19700405T030000
RRULE:FREQ=YEARLY;BYMONTH=4;BYDAY=1SU
END:STANDARD
BEGIN:DAYLIGHT
TZOFFSETFROM:+1000
TZOFFSETTO:+1100
TZNAME:AEDT
DTSTART:19701004T020000
RRULE:FREQ=YEARLY;BYMONTH=10;BYDAY=1SU
END:DAYLIGHT
END:VTIMEZONE
CALSCALE:GREGORIAN
X-WR-TIMEZONE:Australia/Sydney
BEGIN:VEVENT
DTSTART;TZID=Australia/Sydney:20200310T193044
DTEND;TZID=Australia/Sydney:20200310T210033
DTSTAMP:20200310T000000Z
UID:030d266b-a0a9-4fcf-8f21-a76d0b5559b0
LOCATION:Library
SUMMARY;LANGUAGE=en-us:P&C Meeting
SEQUENCE:0
DESCRIPTION:Everyone is welcome to attend.
END:VEVENT
TRANSP:TRANSPARENT
END:VCALENDAR
