BEGIN:VCALENDAR
VERSION:2.0
PRODID:-//Department Of Education//a291a84f-ac00-4ae5-9983-0bdbbb174e3c
BEGIN:VTIMEZONE
TZID:Australia/Sydney
TZURL:http://tzurl.org/zoneinfo-outlook/Australia/Sydney
X-LIC-LOCATION:Australia/Sydney
BEGIN:STANDARD
TZOFFSETFROM:+1100
TZOFFSETTO:+1000
TZNAME:AEST
DTSTART:19700405T030000
RRULE:FREQ=YEARLY;BYMONTH=4;BYDAY=1SU
END:STANDARD
BEGIN:DAYLIGHT
TZOFFSETFROM:+1000
TZOFFSETTO:+1100
TZNAME:AEDT
DTSTART:19701004T020000
RRULE:FREQ=YEARLY;BYMONTH=10;BYDAY=1SU
END:DAYLIGHT
END:VTIMEZONE
CALSCALE:GREGORIAN
X-WR-TIMEZONE:Australia/Sydney
BEGIN:VEVENT
DTSTART;VALUE=DATE:20200303
DTEND;VALUE=DATE:20200304
DTSTAMP:20200303T000000Z
UID:55bd893d-e065-4af1-8424-23e05f89beed
LOCATION:Sydney Olympic Park
SUMMARY;LANGUAGE=en-us:GRIP Student Leadership Conference 2020
SEQUENCE:0
DESCRIPTION:Year 6 students will be attending this Conference which is run by an independent company whose core values are generosity, responsibility, integrity and people.
END:VEVENT
TRANSP:TRANSPARENT
END:VCALENDAR
