BEGIN:VCALENDAR
VERSION:2.0
PRODID:-//Department Of Education//4809e997-bfc9-4544-83c8-f56c08f18ebf
BEGIN:VTIMEZONE
TZID:Australia/Sydney
TZURL:http://tzurl.org/zoneinfo-outlook/Australia/Sydney
X-LIC-LOCATION:Australia/Sydney
BEGIN:STANDARD
TZOFFSETFROM:+1100
TZOFFSETTO:+1000
TZNAME:AEST
DTSTART:19700405T030000
RRULE:FREQ=YEARLY;BYMONTH=4;BYDAY=1SU
END:STANDARD
BEGIN:DAYLIGHT
TZOFFSETFROM:+1000
TZOFFSETTO:+1100
TZNAME:AEDT
DTSTART:19701004T020000
RRULE:FREQ=YEARLY;BYMONTH=10;BYDAY=1SU
END:DAYLIGHT
END:VTIMEZONE
CALSCALE:GREGORIAN
X-WR-TIMEZONE:Australia/Sydney
BEGIN:VEVENT
DTSTART;TZID=Australia/Sydney:20200302T150028
DTEND;TZID=Australia/Sydney:20200303T190037
DTSTAMP:20200302T000000Z
UID:082e83dc-9a01-4f27-b02e-88c15b884756
LOCATION:Kindergarten Classrooms
SUMMARY;LANGUAGE=en-us:Best Start Kindergarten Interviews
SEQUENCE:0
DESCRIPTION:Best start Kindergarten interviews.
END:VEVENT
TRANSP:TRANSPARENT
END:VCALENDAR
