BEGIN:VCALENDAR
VERSION:2.0
PRODID:-//Department Of Education//df240b04-d9e6-432f-9fee-93891d095827
BEGIN:VTIMEZONE
TZID:Australia/Sydney
TZURL:http://tzurl.org/zoneinfo-outlook/Australia/Sydney
X-LIC-LOCATION:Australia/Sydney
BEGIN:STANDARD
TZOFFSETFROM:+1100
TZOFFSETTO:+1000
TZNAME:AEST
DTSTART:19700405T030000
RRULE:FREQ=YEARLY;BYMONTH=4;BYDAY=1SU
END:STANDARD
BEGIN:DAYLIGHT
TZOFFSETFROM:+1000
TZOFFSETTO:+1100
TZNAME:AEDT
DTSTART:19701004T020000
RRULE:FREQ=YEARLY;BYMONTH=10;BYDAY=1SU
END:DAYLIGHT
END:VTIMEZONE
CALSCALE:GREGORIAN
X-WR-TIMEZONE:Australia/Sydney
BEGIN:VEVENT
DTSTART;TZID=Australia/Sydney:20200219T090040
DTEND;TZID=Australia/Sydney:20200219T091549
DTSTAMP:20200219T000000Z
UID:a9b196ef-f0fe-4211-9314-4b01e809179a
LOCATION:Cola
SUMMARY;LANGUAGE=en-us:SRC/Futures Badges Presentation
SEQUENCE:0
DESCRIPTION:SRC/Futures badges will be given out.
END:VEVENT
TRANSP:TRANSPARENT
END:VCALENDAR
