BEGIN:VCALENDAR
VERSION:2.0
PRODID:-//Department Of Education//242d4e0d-3c9d-4fec-8fb6-7c338315fc2b
BEGIN:VTIMEZONE
TZID:Australia/Sydney
TZURL:http://tzurl.org/zoneinfo-outlook/Australia/Sydney
X-LIC-LOCATION:Australia/Sydney
BEGIN:STANDARD
TZOFFSETFROM:+1100
TZOFFSETTO:+1000
TZNAME:AEST
DTSTART:19700405T030000
RRULE:FREQ=YEARLY;BYMONTH=4;BYDAY=1SU
END:STANDARD
BEGIN:DAYLIGHT
TZOFFSETFROM:+1000
TZOFFSETTO:+1100
TZNAME:AEDT
DTSTART:19701004T020000
RRULE:FREQ=YEARLY;BYMONTH=10;BYDAY=1SU
END:DAYLIGHT
END:VTIMEZONE
CALSCALE:GREGORIAN
X-WR-TIMEZONE:Australia/Sydney
BEGIN:VEVENT
DTSTART;TZID=Australia/Sydney:20200228T140035
DTEND;TZID=Australia/Sydney:20200228T150042
DTSTAMP:20200228T000000Z
UID:962dab0b-af6a-4c33-9063-130cb45c44ec
LOCATION:School Hall
SUMMARY;LANGUAGE=en-us:Primary Assembly
SEQUENCE:0
DESCRIPTION:Come and join us for our first Primary assembly for the year!
END:VEVENT
TRANSP:TRANSPARENT
END:VCALENDAR
