BEGIN:VCALENDAR
VERSION:2.0
PRODID:-//Department Of Education//3e7fe039-be20-42e8-94ce-7e0c68ba0037
BEGIN:VTIMEZONE
TZID:Australia/Sydney
TZURL:http://tzurl.org/zoneinfo-outlook/Australia/Sydney
X-LIC-LOCATION:Australia/Sydney
BEGIN:STANDARD
TZOFFSETFROM:+1100
TZOFFSETTO:+1000
TZNAME:AEST
DTSTART:19700405T030000
RRULE:FREQ=YEARLY;BYMONTH=4;BYDAY=1SU
END:STANDARD
BEGIN:DAYLIGHT
TZOFFSETFROM:+1000
TZOFFSETTO:+1100
TZNAME:AEDT
DTSTART:19701004T020000
RRULE:FREQ=YEARLY;BYMONTH=10;BYDAY=1SU
END:DAYLIGHT
END:VTIMEZONE
CALSCALE:GREGORIAN
X-WR-TIMEZONE:Australia/Sydney
BEGIN:VEVENT
DTSTART;TZID=Australia/Sydney:20200220T094541
DTEND;TZID=Australia/Sydney:20200220T121550
DTSTAMP:20200220T000000Z
UID:3d6265fe-35c1-46c3-b619-e2443828d399
LOCATION:Mt Riverview PS
SUMMARY;LANGUAGE=en-us:Orienteering
RRULE:FREQ=WEEKLY;INTERVAL=1;UNTIL=20200319;
SEQUENCE:0
DESCRIPTION:This Orienteering Program for Years 3-6 is funded from the Sporting Schools Grant.
END:VEVENT
TRANSP:TRANSPARENT
END:VCALENDAR
