BEGIN:VCALENDAR
VERSION:2.0
PRODID:-//Department Of Education//9c17edfc-7295-47fb-9107-664cc0e562e2
BEGIN:VTIMEZONE
TZID:Australia/Sydney
TZURL:http://tzurl.org/zoneinfo-outlook/Australia/Sydney
X-LIC-LOCATION:Australia/Sydney
BEGIN:STANDARD
TZOFFSETFROM:+1100
TZOFFSETTO:+1000
TZNAME:AEST
DTSTART:19700405T030000
RRULE:FREQ=YEARLY;BYMONTH=4;BYDAY=1SU
END:STANDARD
BEGIN:DAYLIGHT
TZOFFSETFROM:+1000
TZOFFSETTO:+1100
TZNAME:AEDT
DTSTART:19701004T020000
RRULE:FREQ=YEARLY;BYMONTH=10;BYDAY=1SU
END:DAYLIGHT
END:VTIMEZONE
CALSCALE:GREGORIAN
X-WR-TIMEZONE:Australia/Sydney
BEGIN:VEVENT
DTSTART;TZID=Australia/Sydney:20200221T140025
DTEND;TZID=Australia/Sydney:20200221T150000
DTSTAMP:20200221T000000Z
UID:bd15e4bd-d2c9-4199-a8e4-829a34605600
LOCATION:School Hall
SUMMARY;LANGUAGE=en-us:Infants Assembly
SEQUENCE:0
DESCRIPTION:Come and join us for our first Infants Assembly for the year!
END:VEVENT
TRANSP:TRANSPARENT
END:VCALENDAR
