BEGIN:VCALENDAR
VERSION:2.0
PRODID:-//Department Of Education//2d1c8c04-253c-4b7c-8593-a022b8ad790d
BEGIN:VTIMEZONE
TZID:Australia/Sydney
TZURL:http://tzurl.org/zoneinfo-outlook/Australia/Sydney
X-LIC-LOCATION:Australia/Sydney
BEGIN:STANDARD
TZOFFSETFROM:+1100
TZOFFSETTO:+1000
TZNAME:AEST
DTSTART:19700405T030000
RRULE:FREQ=YEARLY;BYMONTH=4;BYDAY=1SU
END:STANDARD
BEGIN:DAYLIGHT
TZOFFSETFROM:+1000
TZOFFSETTO:+1100
TZNAME:AEDT
DTSTART:19701004T020000
RRULE:FREQ=YEARLY;BYMONTH=10;BYDAY=1SU
END:DAYLIGHT
END:VTIMEZONE
CALSCALE:GREGORIAN
X-WR-TIMEZONE:Australia/Sydney
BEGIN:VEVENT
DTSTART;TZID=Australia/Sydney:20200221T170050
DTEND;TZID=Australia/Sydney:20200221T193007
DTSTAMP:20200221T000000Z
UID:f7e5314e-9925-44e2-b5ed-7c998ff72696
LOCATION:School COLA
SUMMARY;LANGUAGE=en-us:Back to School BBQ
SEQUENCE:0
DESCRIPTION:Please join us for a fun night where the Mt Riverview Public School P&C says thank you for supporting all our fundraising efforts over the past year and welcome to all the new families joining our school.
END:VEVENT
TRANSP:TRANSPARENT
END:VCALENDAR
